BEGIN:VCALENDAR
METHOD:REQUEST
PRODID:escape GmbH
VERSION:2.0
BEGIN:VEVENT
UID:WebS_20260706_DB_Nachtisch
CLASS:PUBLIC
SUMMARY:DOAG Nachtisch zum Thema: EXA CC
DESCRIPTION:Wissenpräsentation und Erfahrungsaustausch mit Jürgen Vitek
LOCATION:Online
DTSTART:20260706T130000
DTEND:20260706T133000
DTSTAMP:20260422T173621
END:VEVENT
END:VCALENDAR