BEGIN:VCALENDAR
METHOD:REQUEST
PRODID:escape GmbH
VERSION:2.0
BEGIN:VEVENT
UID:WEBS_20260612_DB_copy_985
CLASS:PUBLIC
SUMMARY:Windows Performance Counter – Die unterschätzte Goldgrube im Betriebssystem

DESCRIPTION:DB WebSession mit Gabriel Köhl
LOCATION:Online
DTSTART:20260612T110000
DTEND:20260612T120000
DTSTAMP:20260421T193722
END:VEVENT
END:VCALENDAR